BEGIN:VCALENDAR
VERSION:2.0
PRODID:-//Jaffrey Presbyterian Church - ECPv6.15.20//NONSGML v1.0//EN
CALSCALE:GREGORIAN
METHOD:PUBLISH
X-ORIGINAL-URL:https://jaffreyopc.org
X-WR-CALDESC:Events for Jaffrey Presbyterian Church
REFRESH-INTERVAL;VALUE=DURATION:PT1H
X-Robots-Tag:noindex
X-PUBLISHED-TTL:PT1H
BEGIN:VTIMEZONE
TZID:America/Detroit
BEGIN:DAYLIGHT
TZOFFSETFROM:-0500
TZOFFSETTO:-0400
TZNAME:EDT
DTSTART:20250309T070000
END:DAYLIGHT
BEGIN:STANDARD
TZOFFSETFROM:-0400
TZOFFSETTO:-0500
TZNAME:EST
DTSTART:20251102T060000
END:STANDARD
BEGIN:DAYLIGHT
TZOFFSETFROM:-0500
TZOFFSETTO:-0400
TZNAME:EDT
DTSTART:20260308T070000
END:DAYLIGHT
BEGIN:STANDARD
TZOFFSETFROM:-0400
TZOFFSETTO:-0500
TZNAME:EST
DTSTART:20261101T060000
END:STANDARD
BEGIN:DAYLIGHT
TZOFFSETFROM:-0500
TZOFFSETTO:-0400
TZNAME:EDT
DTSTART:20270314T070000
END:DAYLIGHT
BEGIN:STANDARD
TZOFFSETFROM:-0400
TZOFFSETTO:-0500
TZNAME:EST
DTSTART:20271107T060000
END:STANDARD
END:VTIMEZONE
BEGIN:VTIMEZONE
TZID:America/New_York
BEGIN:DAYLIGHT
TZOFFSETFROM:-0500
TZOFFSETTO:-0400
TZNAME:EDT
DTSTART:20250309T070000
END:DAYLIGHT
BEGIN:STANDARD
TZOFFSETFROM:-0400
TZOFFSETTO:-0500
TZNAME:EST
DTSTART:20251102T060000
END:STANDARD
BEGIN:DAYLIGHT
TZOFFSETFROM:-0500
TZOFFSETTO:-0400
TZNAME:EDT
DTSTART:20260308T070000
END:DAYLIGHT
BEGIN:STANDARD
TZOFFSETFROM:-0400
TZOFFSETTO:-0500
TZNAME:EST
DTSTART:20261101T060000
END:STANDARD
BEGIN:DAYLIGHT
TZOFFSETFROM:-0500
TZOFFSETTO:-0400
TZNAME:EDT
DTSTART:20270314T070000
END:DAYLIGHT
BEGIN:STANDARD
TZOFFSETFROM:-0400
TZOFFSETTO:-0500
TZNAME:EST
DTSTART:20271107T060000
END:STANDARD
END:VTIMEZONE
BEGIN:VEVENT
DTSTART;TZID=America/Detroit:20260614T103000
DTEND;TZID=America/Detroit:20260614T120000
DTSTAMP:20260425T112228
CREATED:20181127T213201Z
LAST-MODIFIED:20210721T015614Z
UID:10001532-1781433000-1781438400@jaffreyopc.org
SUMMARY:Worship Service at 10:30am
DESCRIPTION:
URL:https://jaffreyopc.org/event/worship-service/2026-06-14/
END:VEVENT
BEGIN:VEVENT
DTSTART;TZID=America/Detroit:20260617T183000
DTEND;TZID=America/Detroit:20260617T193000
DTSTAMP:20260425T112228
CREATED:20181129T215247Z
LAST-MODIFIED:20220306T193709Z
UID:10000392-1781721000-1781724600@jaffreyopc.org
SUMMARY:Weekly Prayer Meeting at 6:30pm
DESCRIPTION:Join us for prayer at Pastor Migotsky’s home on School St. in Jaffrey.
URL:https://jaffreyopc.org/event/weekly-prayer-meeting/2026-06-17/
LOCATION:Pastor Migotsky’s home\, Jaffrey\, NH
END:VEVENT
BEGIN:VEVENT
DTSTART;TZID=America/New_York:20260621T093000
DTEND;TZID=America/New_York:20260621T102000
DTSTAMP:20260425T112228
CREATED:20181127T165832Z
LAST-MODIFIED:20220724T180826Z
UID:10000828-1782034200-1782037200@jaffreyopc.org
SUMMARY:Sunday School at 9:30am
DESCRIPTION:Join us for Sunday School before worship service begins.
URL:https://jaffreyopc.org/event/sunday-school-2023-01-29/2026-06-21/
END:VEVENT
BEGIN:VEVENT
DTSTART;TZID=America/Detroit:20260621T103000
DTEND;TZID=America/Detroit:20260621T120000
DTSTAMP:20260425T112228
CREATED:20181127T213201Z
LAST-MODIFIED:20210721T015614Z
UID:10001533-1782037800-1782043200@jaffreyopc.org
SUMMARY:Worship Service at 10:30am
DESCRIPTION:
URL:https://jaffreyopc.org/event/worship-service/2026-06-21/
END:VEVENT
BEGIN:VEVENT
DTSTART;TZID=America/Detroit:20260621T123000
DTEND;TZID=America/Detroit:20260621T133000
DTSTAMP:20260425T112228
CREATED:20181128T035230Z
LAST-MODIFIED:20181129T220607Z
UID:10001107-1782045000-1782048600@jaffreyopc.org
SUMMARY:Monthly Luncheon after Worship
DESCRIPTION:Join us for a potluck meal after worship. The luncheon falls on the third Sunday of every month.
URL:https://jaffreyopc.org/event/monthly-luncheon/2026-06-21/
END:VEVENT
BEGIN:VEVENT
DTSTART;TZID=America/Detroit:20260621T123000
DTEND;TZID=America/Detroit:20260621T133000
DTSTAMP:20260425T112228
CREATED:20220306T194953Z
LAST-MODIFIED:20220306T194953Z
UID:10000617-1782045000-1782048600@jaffreyopc.org
SUMMARY:Monthly Luncheon
DESCRIPTION:Join us after the worship service for a pot-luck luncheon and fellowship.\nFeel free to bring a meal to share – but do come!
URL:https://jaffreyopc.org/event/monthly-luncheon-2/2026-06-21/
LOCATION:In the worship hall
END:VEVENT
BEGIN:VEVENT
DTSTART;TZID=America/Detroit:20260624T183000
DTEND;TZID=America/Detroit:20260624T193000
DTSTAMP:20260425T112228
CREATED:20181129T215247Z
LAST-MODIFIED:20220306T193709Z
UID:10000393-1782325800-1782329400@jaffreyopc.org
SUMMARY:Weekly Prayer Meeting at 6:30pm
DESCRIPTION:Join us for prayer at Pastor Migotsky’s home on School St. in Jaffrey.
URL:https://jaffreyopc.org/event/weekly-prayer-meeting/2026-06-24/
LOCATION:Pastor Migotsky’s home\, Jaffrey\, NH
END:VEVENT
BEGIN:VEVENT
DTSTART;TZID=America/New_York:20260628T093000
DTEND;TZID=America/New_York:20260628T102000
DTSTAMP:20260425T112228
CREATED:20181127T165832Z
LAST-MODIFIED:20220724T180826Z
UID:10000829-1782639000-1782642000@jaffreyopc.org
SUMMARY:Sunday School at 9:30am
DESCRIPTION:Join us for Sunday School before worship service begins.
URL:https://jaffreyopc.org/event/sunday-school-2023-01-29/2026-06-28/
END:VEVENT
BEGIN:VEVENT
DTSTART;TZID=America/Detroit:20260628T103000
DTEND;TZID=America/Detroit:20260628T120000
DTSTAMP:20260425T112228
CREATED:20181127T213201Z
LAST-MODIFIED:20210721T015614Z
UID:10001534-1782642600-1782648000@jaffreyopc.org
SUMMARY:Worship Service at 10:30am
DESCRIPTION:
URL:https://jaffreyopc.org/event/worship-service/2026-06-28/
END:VEVENT
BEGIN:VEVENT
DTSTART;TZID=America/Detroit:20260701T183000
DTEND;TZID=America/Detroit:20260701T193000
DTSTAMP:20260425T112228
CREATED:20181129T215247Z
LAST-MODIFIED:20220306T193709Z
UID:10000394-1782930600-1782934200@jaffreyopc.org
SUMMARY:Weekly Prayer Meeting at 6:30pm
DESCRIPTION:Join us for prayer at Pastor Migotsky’s home on School St. in Jaffrey.
URL:https://jaffreyopc.org/event/weekly-prayer-meeting/2026-07-01/
LOCATION:Pastor Migotsky’s home\, Jaffrey\, NH
END:VEVENT
BEGIN:VEVENT
DTSTART;TZID=America/New_York:20260705T093000
DTEND;TZID=America/New_York:20260705T102000
DTSTAMP:20260425T112228
CREATED:20181127T165832Z
LAST-MODIFIED:20220724T180826Z
UID:10000830-1783243800-1783246800@jaffreyopc.org
SUMMARY:Sunday School at 9:30am
DESCRIPTION:Join us for Sunday School before worship service begins.
URL:https://jaffreyopc.org/event/sunday-school-2023-01-29/2026-07-05/
END:VEVENT
BEGIN:VEVENT
DTSTART;TZID=America/Detroit:20260705T103000
DTEND;TZID=America/Detroit:20260705T120000
DTSTAMP:20260425T112228
CREATED:20181127T213201Z
LAST-MODIFIED:20210721T015614Z
UID:10001535-1783247400-1783252800@jaffreyopc.org
SUMMARY:Worship Service at 10:30am
DESCRIPTION:
URL:https://jaffreyopc.org/event/worship-service/2026-07-05/
END:VEVENT
BEGIN:VEVENT
DTSTART;TZID=America/Detroit:20260708T183000
DTEND;TZID=America/Detroit:20260708T193000
DTSTAMP:20260425T112228
CREATED:20181129T215247Z
LAST-MODIFIED:20220306T193709Z
UID:10000395-1783535400-1783539000@jaffreyopc.org
SUMMARY:Weekly Prayer Meeting at 6:30pm
DESCRIPTION:Join us for prayer at Pastor Migotsky’s home on School St. in Jaffrey.
URL:https://jaffreyopc.org/event/weekly-prayer-meeting/2026-07-08/
LOCATION:Pastor Migotsky’s home\, Jaffrey\, NH
END:VEVENT
BEGIN:VEVENT
DTSTART;TZID=America/New_York:20260712T093000
DTEND;TZID=America/New_York:20260712T102000
DTSTAMP:20260425T112228
CREATED:20181127T165832Z
LAST-MODIFIED:20220724T180826Z
UID:10000831-1783848600-1783851600@jaffreyopc.org
SUMMARY:Sunday School at 9:30am
DESCRIPTION:Join us for Sunday School before worship service begins.
URL:https://jaffreyopc.org/event/sunday-school-2023-01-29/2026-07-12/
END:VEVENT
BEGIN:VEVENT
DTSTART;TZID=America/Detroit:20260712T103000
DTEND;TZID=America/Detroit:20260712T120000
DTSTAMP:20260425T112228
CREATED:20181127T213201Z
LAST-MODIFIED:20210721T015614Z
UID:10001536-1783852200-1783857600@jaffreyopc.org
SUMMARY:Worship Service at 10:30am
DESCRIPTION:
URL:https://jaffreyopc.org/event/worship-service/2026-07-12/
END:VEVENT
BEGIN:VEVENT
DTSTART;TZID=America/Detroit:20260715T183000
DTEND;TZID=America/Detroit:20260715T193000
DTSTAMP:20260425T112228
CREATED:20181129T215247Z
LAST-MODIFIED:20220306T193709Z
UID:10000396-1784140200-1784143800@jaffreyopc.org
SUMMARY:Weekly Prayer Meeting at 6:30pm
DESCRIPTION:Join us for prayer at Pastor Migotsky’s home on School St. in Jaffrey.
URL:https://jaffreyopc.org/event/weekly-prayer-meeting/2026-07-15/
LOCATION:Pastor Migotsky’s home\, Jaffrey\, NH
END:VEVENT
BEGIN:VEVENT
DTSTART;TZID=America/New_York:20260719T093000
DTEND;TZID=America/New_York:20260719T102000
DTSTAMP:20260425T112228
CREATED:20181127T165832Z
LAST-MODIFIED:20220724T180826Z
UID:10000832-1784453400-1784456400@jaffreyopc.org
SUMMARY:Sunday School at 9:30am
DESCRIPTION:Join us for Sunday School before worship service begins.
URL:https://jaffreyopc.org/event/sunday-school-2023-01-29/2026-07-19/
END:VEVENT
BEGIN:VEVENT
DTSTART;TZID=America/Detroit:20260719T103000
DTEND;TZID=America/Detroit:20260719T120000
DTSTAMP:20260425T112228
CREATED:20181127T213201Z
LAST-MODIFIED:20210721T015614Z
UID:10001537-1784457000-1784462400@jaffreyopc.org
SUMMARY:Worship Service at 10:30am
DESCRIPTION:
URL:https://jaffreyopc.org/event/worship-service/2026-07-19/
END:VEVENT
BEGIN:VEVENT
DTSTART;TZID=America/Detroit:20260719T123000
DTEND;TZID=America/Detroit:20260719T133000
DTSTAMP:20260425T112228
CREATED:20181128T035230Z
LAST-MODIFIED:20181129T220607Z
UID:10001108-1784464200-1784467800@jaffreyopc.org
SUMMARY:Monthly Luncheon after Worship
DESCRIPTION:Join us for a potluck meal after worship. The luncheon falls on the third Sunday of every month.
URL:https://jaffreyopc.org/event/monthly-luncheon/2026-07-19/
END:VEVENT
BEGIN:VEVENT
DTSTART;TZID=America/Detroit:20260719T123000
DTEND;TZID=America/Detroit:20260719T133000
DTSTAMP:20260425T112228
CREATED:20220306T194953Z
LAST-MODIFIED:20220306T194953Z
UID:10000618-1784464200-1784467800@jaffreyopc.org
SUMMARY:Monthly Luncheon
DESCRIPTION:Join us after the worship service for a pot-luck luncheon and fellowship.\nFeel free to bring a meal to share – but do come!
URL:https://jaffreyopc.org/event/monthly-luncheon-2/2026-07-19/
LOCATION:In the worship hall
END:VEVENT
BEGIN:VEVENT
DTSTART;TZID=America/Detroit:20260722T183000
DTEND;TZID=America/Detroit:20260722T193000
DTSTAMP:20260425T112228
CREATED:20181129T215247Z
LAST-MODIFIED:20220306T193709Z
UID:10000397-1784745000-1784748600@jaffreyopc.org
SUMMARY:Weekly Prayer Meeting at 6:30pm
DESCRIPTION:Join us for prayer at Pastor Migotsky’s home on School St. in Jaffrey.
URL:https://jaffreyopc.org/event/weekly-prayer-meeting/2026-07-22/
LOCATION:Pastor Migotsky’s home\, Jaffrey\, NH
END:VEVENT
BEGIN:VEVENT
DTSTART;TZID=America/New_York:20260726T093000
DTEND;TZID=America/New_York:20260726T102000
DTSTAMP:20260425T112228
CREATED:20181127T165832Z
LAST-MODIFIED:20220724T180826Z
UID:10000833-1785058200-1785061200@jaffreyopc.org
SUMMARY:Sunday School at 9:30am
DESCRIPTION:Join us for Sunday School before worship service begins.
URL:https://jaffreyopc.org/event/sunday-school-2023-01-29/2026-07-26/
END:VEVENT
BEGIN:VEVENT
DTSTART;TZID=America/Detroit:20260726T103000
DTEND;TZID=America/Detroit:20260726T120000
DTSTAMP:20260425T112228
CREATED:20181127T213201Z
LAST-MODIFIED:20210721T015614Z
UID:10001538-1785061800-1785067200@jaffreyopc.org
SUMMARY:Worship Service at 10:30am
DESCRIPTION:
URL:https://jaffreyopc.org/event/worship-service/2026-07-26/
END:VEVENT
BEGIN:VEVENT
DTSTART;TZID=America/Detroit:20260729T183000
DTEND;TZID=America/Detroit:20260729T193000
DTSTAMP:20260425T112228
CREATED:20181129T215247Z
LAST-MODIFIED:20220306T193709Z
UID:10000398-1785349800-1785353400@jaffreyopc.org
SUMMARY:Weekly Prayer Meeting at 6:30pm
DESCRIPTION:Join us for prayer at Pastor Migotsky’s home on School St. in Jaffrey.
URL:https://jaffreyopc.org/event/weekly-prayer-meeting/2026-07-29/
LOCATION:Pastor Migotsky’s home\, Jaffrey\, NH
END:VEVENT
BEGIN:VEVENT
DTSTART;TZID=America/New_York:20260802T093000
DTEND;TZID=America/New_York:20260802T102000
DTSTAMP:20260425T112228
CREATED:20181127T165832Z
LAST-MODIFIED:20220724T180826Z
UID:10000834-1785663000-1785666000@jaffreyopc.org
SUMMARY:Sunday School at 9:30am
DESCRIPTION:Join us for Sunday School before worship service begins.
URL:https://jaffreyopc.org/event/sunday-school-2023-01-29/2026-08-02/
END:VEVENT
BEGIN:VEVENT
DTSTART;TZID=America/Detroit:20260802T103000
DTEND;TZID=America/Detroit:20260802T120000
DTSTAMP:20260425T112228
CREATED:20181127T213201Z
LAST-MODIFIED:20210721T015614Z
UID:10001539-1785666600-1785672000@jaffreyopc.org
SUMMARY:Worship Service at 10:30am
DESCRIPTION:
URL:https://jaffreyopc.org/event/worship-service/2026-08-02/
END:VEVENT
BEGIN:VEVENT
DTSTART;TZID=America/Detroit:20260805T183000
DTEND;TZID=America/Detroit:20260805T193000
DTSTAMP:20260425T112228
CREATED:20181129T215247Z
LAST-MODIFIED:20220306T193709Z
UID:10000399-1785954600-1785958200@jaffreyopc.org
SUMMARY:Weekly Prayer Meeting at 6:30pm
DESCRIPTION:Join us for prayer at Pastor Migotsky’s home on School St. in Jaffrey.
URL:https://jaffreyopc.org/event/weekly-prayer-meeting/2026-08-05/
LOCATION:Pastor Migotsky’s home\, Jaffrey\, NH
END:VEVENT
BEGIN:VEVENT
DTSTART;TZID=America/New_York:20260809T093000
DTEND;TZID=America/New_York:20260809T102000
DTSTAMP:20260425T112228
CREATED:20181127T165832Z
LAST-MODIFIED:20220724T180826Z
UID:10000835-1786267800-1786270800@jaffreyopc.org
SUMMARY:Sunday School at 9:30am
DESCRIPTION:Join us for Sunday School before worship service begins.
URL:https://jaffreyopc.org/event/sunday-school-2023-01-29/2026-08-09/
END:VEVENT
BEGIN:VEVENT
DTSTART;TZID=America/Detroit:20260809T103000
DTEND;TZID=America/Detroit:20260809T120000
DTSTAMP:20260425T112228
CREATED:20181127T213201Z
LAST-MODIFIED:20210721T015614Z
UID:10001540-1786271400-1786276800@jaffreyopc.org
SUMMARY:Worship Service at 10:30am
DESCRIPTION:
URL:https://jaffreyopc.org/event/worship-service/2026-08-09/
END:VEVENT
BEGIN:VEVENT
DTSTART;TZID=America/Detroit:20260812T183000
DTEND;TZID=America/Detroit:20260812T193000
DTSTAMP:20260425T112228
CREATED:20181129T215247Z
LAST-MODIFIED:20220306T193709Z
UID:10000400-1786559400-1786563000@jaffreyopc.org
SUMMARY:Weekly Prayer Meeting at 6:30pm
DESCRIPTION:Join us for prayer at Pastor Migotsky’s home on School St. in Jaffrey.
URL:https://jaffreyopc.org/event/weekly-prayer-meeting/2026-08-12/
LOCATION:Pastor Migotsky’s home\, Jaffrey\, NH
END:VEVENT
END:VCALENDAR