BEGIN:VCALENDAR
VERSION:2.0
PRODID:-//Jaffrey Presbyterian Church - ECPv6.15.20//NONSGML v1.0//EN
CALSCALE:GREGORIAN
METHOD:PUBLISH
X-ORIGINAL-URL:https://jaffreyopc.org
X-WR-CALDESC:Events for Jaffrey Presbyterian Church
REFRESH-INTERVAL;VALUE=DURATION:PT1H
X-Robots-Tag:noindex
X-PUBLISHED-TTL:PT1H
BEGIN:VTIMEZONE
TZID:America/Detroit
BEGIN:DAYLIGHT
TZOFFSETFROM:-0500
TZOFFSETTO:-0400
TZNAME:EDT
DTSTART:20220313T070000
END:DAYLIGHT
BEGIN:STANDARD
TZOFFSETFROM:-0400
TZOFFSETTO:-0500
TZNAME:EST
DTSTART:20221106T060000
END:STANDARD
BEGIN:DAYLIGHT
TZOFFSETFROM:-0500
TZOFFSETTO:-0400
TZNAME:EDT
DTSTART:20230312T070000
END:DAYLIGHT
BEGIN:STANDARD
TZOFFSETFROM:-0400
TZOFFSETTO:-0500
TZNAME:EST
DTSTART:20231105T060000
END:STANDARD
BEGIN:DAYLIGHT
TZOFFSETFROM:-0500
TZOFFSETTO:-0400
TZNAME:EDT
DTSTART:20240310T070000
END:DAYLIGHT
BEGIN:STANDARD
TZOFFSETFROM:-0400
TZOFFSETTO:-0500
TZNAME:EST
DTSTART:20241103T060000
END:STANDARD
BEGIN:DAYLIGHT
TZOFFSETFROM:-0500
TZOFFSETTO:-0400
TZNAME:EDT
DTSTART:20250309T070000
END:DAYLIGHT
BEGIN:STANDARD
TZOFFSETFROM:-0400
TZOFFSETTO:-0500
TZNAME:EST
DTSTART:20251102T060000
END:STANDARD
BEGIN:DAYLIGHT
TZOFFSETFROM:-0500
TZOFFSETTO:-0400
TZNAME:EDT
DTSTART:20260308T070000
END:DAYLIGHT
BEGIN:STANDARD
TZOFFSETFROM:-0400
TZOFFSETTO:-0500
TZNAME:EST
DTSTART:20261101T060000
END:STANDARD
BEGIN:DAYLIGHT
TZOFFSETFROM:-0500
TZOFFSETTO:-0400
TZNAME:EDT
DTSTART:20270314T070000
END:DAYLIGHT
BEGIN:STANDARD
TZOFFSETFROM:-0400
TZOFFSETTO:-0500
TZNAME:EST
DTSTART:20271107T060000
END:STANDARD
END:VTIMEZONE
BEGIN:VEVENT
DTSTART;TZID=America/Detroit:20260419T123000
DTEND;TZID=America/Detroit:20260419T133000
DTSTAMP:20260421T044853
CREATED:20220306T194953Z
LAST-MODIFIED:20220306T194953Z
UID:10000615-1776601800-1776605400@jaffreyopc.org
SUMMARY:Monthly Luncheon
DESCRIPTION:Join us after the worship service for a pot-luck luncheon and fellowship.\nFeel free to bring a meal to share – but do come!
URL:https://jaffreyopc.org/event/monthly-luncheon-2/2026-04-19/
LOCATION:In the worship hall
END:VEVENT
BEGIN:VEVENT
DTSTART;TZID=America/Detroit:20260315T123000
DTEND;TZID=America/Detroit:20260315T133000
DTSTAMP:20260421T044853
CREATED:20220306T194953Z
LAST-MODIFIED:20220306T194953Z
UID:10000614-1773577800-1773581400@jaffreyopc.org
SUMMARY:Monthly Luncheon
DESCRIPTION:Join us after the worship service for a pot-luck luncheon and fellowship.\nFeel free to bring a meal to share – but do come!
URL:https://jaffreyopc.org/event/monthly-luncheon-2/2026-03-15/
LOCATION:In the worship hall
END:VEVENT
BEGIN:VEVENT
DTSTART;TZID=America/Detroit:20260215T123000
DTEND;TZID=America/Detroit:20260215T133000
DTSTAMP:20260421T044853
CREATED:20220306T194953Z
LAST-MODIFIED:20220306T194953Z
UID:10000613-1771158600-1771162200@jaffreyopc.org
SUMMARY:Monthly Luncheon
DESCRIPTION:Join us after the worship service for a pot-luck luncheon and fellowship.\nFeel free to bring a meal to share – but do come!
URL:https://jaffreyopc.org/event/monthly-luncheon-2/2026-02-15/
LOCATION:In the worship hall
END:VEVENT
BEGIN:VEVENT
DTSTART;TZID=America/Detroit:20260118T123000
DTEND;TZID=America/Detroit:20260118T133000
DTSTAMP:20260421T044853
CREATED:20220306T194953Z
LAST-MODIFIED:20220306T194953Z
UID:10000612-1768739400-1768743000@jaffreyopc.org
SUMMARY:Monthly Luncheon
DESCRIPTION:Join us after the worship service for a pot-luck luncheon and fellowship.\nFeel free to bring a meal to share – but do come!
URL:https://jaffreyopc.org/event/monthly-luncheon-2/2026-01-18/
LOCATION:In the worship hall
END:VEVENT
BEGIN:VEVENT
DTSTART;TZID=America/Detroit:20251221T123000
DTEND;TZID=America/Detroit:20251221T133000
DTSTAMP:20260421T044853
CREATED:20220306T194953Z
LAST-MODIFIED:20220306T194953Z
UID:10000611-1766320200-1766323800@jaffreyopc.org
SUMMARY:Monthly Luncheon
DESCRIPTION:Join us after the worship service for a pot-luck luncheon and fellowship.\nFeel free to bring a meal to share – but do come!
URL:https://jaffreyopc.org/event/monthly-luncheon-2/2025-12-21/
LOCATION:In the worship hall
END:VEVENT
BEGIN:VEVENT
DTSTART;TZID=America/Detroit:20251116T123000
DTEND;TZID=America/Detroit:20251116T133000
DTSTAMP:20260421T044853
CREATED:20220306T194953Z
LAST-MODIFIED:20220306T194953Z
UID:10000610-1763296200-1763299800@jaffreyopc.org
SUMMARY:Monthly Luncheon
DESCRIPTION:Join us after the worship service for a pot-luck luncheon and fellowship.\nFeel free to bring a meal to share – but do come!
URL:https://jaffreyopc.org/event/monthly-luncheon-2/2025-11-16/
LOCATION:In the worship hall
END:VEVENT
BEGIN:VEVENT
DTSTART;TZID=America/Detroit:20251019T123000
DTEND;TZID=America/Detroit:20251019T133000
DTSTAMP:20260421T044853
CREATED:20220306T194953Z
LAST-MODIFIED:20220306T194953Z
UID:10000609-1760877000-1760880600@jaffreyopc.org
SUMMARY:Monthly Luncheon
DESCRIPTION:Join us after the worship service for a pot-luck luncheon and fellowship.\nFeel free to bring a meal to share – but do come!
URL:https://jaffreyopc.org/event/monthly-luncheon-2/2025-10-19/
LOCATION:In the worship hall
END:VEVENT
BEGIN:VEVENT
DTSTART;TZID=America/Detroit:20250921T123000
DTEND;TZID=America/Detroit:20250921T133000
DTSTAMP:20260421T044853
CREATED:20220306T194953Z
LAST-MODIFIED:20220306T194953Z
UID:10000608-1758457800-1758461400@jaffreyopc.org
SUMMARY:Monthly Luncheon
DESCRIPTION:Join us after the worship service for a pot-luck luncheon and fellowship.\nFeel free to bring a meal to share – but do come!
URL:https://jaffreyopc.org/event/monthly-luncheon-2/2025-09-21/
LOCATION:In the worship hall
END:VEVENT
BEGIN:VEVENT
DTSTART;TZID=America/Detroit:20250817T123000
DTEND;TZID=America/Detroit:20250817T133000
DTSTAMP:20260421T044853
CREATED:20220306T194953Z
LAST-MODIFIED:20220306T194953Z
UID:10000607-1755433800-1755437400@jaffreyopc.org
SUMMARY:Monthly Luncheon
DESCRIPTION:Join us after the worship service for a pot-luck luncheon and fellowship.\nFeel free to bring a meal to share – but do come!
URL:https://jaffreyopc.org/event/monthly-luncheon-2/2025-08-17/
LOCATION:In the worship hall
END:VEVENT
BEGIN:VEVENT
DTSTART;TZID=America/Detroit:20250720T123000
DTEND;TZID=America/Detroit:20250720T133000
DTSTAMP:20260421T044853
CREATED:20220306T194953Z
LAST-MODIFIED:20220306T194953Z
UID:10000606-1753014600-1753018200@jaffreyopc.org
SUMMARY:Monthly Luncheon
DESCRIPTION:Join us after the worship service for a pot-luck luncheon and fellowship.\nFeel free to bring a meal to share – but do come!
URL:https://jaffreyopc.org/event/monthly-luncheon-2/2025-07-20/
LOCATION:In the worship hall
END:VEVENT
BEGIN:VEVENT
DTSTART;TZID=America/Detroit:20250615T123000
DTEND;TZID=America/Detroit:20250615T133000
DTSTAMP:20260421T044853
CREATED:20220306T194953Z
LAST-MODIFIED:20220306T194953Z
UID:10000605-1749990600-1749994200@jaffreyopc.org
SUMMARY:Monthly Luncheon
DESCRIPTION:Join us after the worship service for a pot-luck luncheon and fellowship.\nFeel free to bring a meal to share – but do come!
URL:https://jaffreyopc.org/event/monthly-luncheon-2/2025-06-15/
LOCATION:In the worship hall
END:VEVENT
BEGIN:VEVENT
DTSTART;TZID=America/Detroit:20250518T123000
DTEND;TZID=America/Detroit:20250518T133000
DTSTAMP:20260421T044853
CREATED:20220306T194953Z
LAST-MODIFIED:20220306T194953Z
UID:10000604-1747571400-1747575000@jaffreyopc.org
SUMMARY:Monthly Luncheon
DESCRIPTION:Join us after the worship service for a pot-luck luncheon and fellowship.\nFeel free to bring a meal to share – but do come!
URL:https://jaffreyopc.org/event/monthly-luncheon-2/2025-05-18/
LOCATION:In the worship hall
END:VEVENT
BEGIN:VEVENT
DTSTART;TZID=America/Detroit:20250420T123000
DTEND;TZID=America/Detroit:20250420T133000
DTSTAMP:20260421T044853
CREATED:20220306T194953Z
LAST-MODIFIED:20220306T194953Z
UID:10000603-1745152200-1745155800@jaffreyopc.org
SUMMARY:Monthly Luncheon
DESCRIPTION:Join us after the worship service for a pot-luck luncheon and fellowship.\nFeel free to bring a meal to share – but do come!
URL:https://jaffreyopc.org/event/monthly-luncheon-2/2025-04-20/
LOCATION:In the worship hall
END:VEVENT
BEGIN:VEVENT
DTSTART;TZID=America/Detroit:20250316T123000
DTEND;TZID=America/Detroit:20250316T133000
DTSTAMP:20260421T044853
CREATED:20220306T194953Z
LAST-MODIFIED:20220306T194953Z
UID:10000602-1742128200-1742131800@jaffreyopc.org
SUMMARY:Monthly Luncheon
DESCRIPTION:Join us after the worship service for a pot-luck luncheon and fellowship.\nFeel free to bring a meal to share – but do come!
URL:https://jaffreyopc.org/event/monthly-luncheon-2/2025-03-16/
LOCATION:In the worship hall
END:VEVENT
BEGIN:VEVENT
DTSTART;TZID=America/Detroit:20250216T123000
DTEND;TZID=America/Detroit:20250216T133000
DTSTAMP:20260421T044853
CREATED:20220306T194953Z
LAST-MODIFIED:20220306T194953Z
UID:10000601-1739709000-1739712600@jaffreyopc.org
SUMMARY:Monthly Luncheon
DESCRIPTION:Join us after the worship service for a pot-luck luncheon and fellowship.\nFeel free to bring a meal to share – but do come!
URL:https://jaffreyopc.org/event/monthly-luncheon-2/2025-02-16/
LOCATION:In the worship hall
END:VEVENT
BEGIN:VEVENT
DTSTART;TZID=America/Detroit:20250119T123000
DTEND;TZID=America/Detroit:20250119T133000
DTSTAMP:20260421T044853
CREATED:20220306T194953Z
LAST-MODIFIED:20220306T194953Z
UID:10000600-1737289800-1737293400@jaffreyopc.org
SUMMARY:Monthly Luncheon
DESCRIPTION:Join us after the worship service for a pot-luck luncheon and fellowship.\nFeel free to bring a meal to share – but do come!
URL:https://jaffreyopc.org/event/monthly-luncheon-2/2025-01-19/
LOCATION:In the worship hall
END:VEVENT
BEGIN:VEVENT
DTSTART;TZID=America/Detroit:20241215T123000
DTEND;TZID=America/Detroit:20241215T133000
DTSTAMP:20260421T044853
CREATED:20220306T194953Z
LAST-MODIFIED:20220306T194953Z
UID:10000599-1734265800-1734269400@jaffreyopc.org
SUMMARY:Monthly Luncheon
DESCRIPTION:Join us after the worship service for a pot-luck luncheon and fellowship.\nFeel free to bring a meal to share – but do come!
URL:https://jaffreyopc.org/event/monthly-luncheon-2/2024-12-15/
LOCATION:In the worship hall
END:VEVENT
BEGIN:VEVENT
DTSTART;TZID=America/Detroit:20241117T123000
DTEND;TZID=America/Detroit:20241117T133000
DTSTAMP:20260421T044853
CREATED:20220306T194953Z
LAST-MODIFIED:20220306T194953Z
UID:10000598-1731846600-1731850200@jaffreyopc.org
SUMMARY:Monthly Luncheon
DESCRIPTION:Join us after the worship service for a pot-luck luncheon and fellowship.\nFeel free to bring a meal to share – but do come!
URL:https://jaffreyopc.org/event/monthly-luncheon-2/2024-11-17/
LOCATION:In the worship hall
END:VEVENT
BEGIN:VEVENT
DTSTART;TZID=America/Detroit:20241020T123000
DTEND;TZID=America/Detroit:20241020T133000
DTSTAMP:20260421T044853
CREATED:20220306T194953Z
LAST-MODIFIED:20220306T194953Z
UID:10000597-1729427400-1729431000@jaffreyopc.org
SUMMARY:Monthly Luncheon
DESCRIPTION:Join us after the worship service for a pot-luck luncheon and fellowship.\nFeel free to bring a meal to share – but do come!
URL:https://jaffreyopc.org/event/monthly-luncheon-2/2024-10-20/
LOCATION:In the worship hall
END:VEVENT
BEGIN:VEVENT
DTSTART;TZID=America/Detroit:20240915T123000
DTEND;TZID=America/Detroit:20240915T133000
DTSTAMP:20260421T044853
CREATED:20220306T194953Z
LAST-MODIFIED:20220306T194953Z
UID:10000596-1726403400-1726407000@jaffreyopc.org
SUMMARY:Monthly Luncheon
DESCRIPTION:Join us after the worship service for a pot-luck luncheon and fellowship.\nFeel free to bring a meal to share – but do come!
URL:https://jaffreyopc.org/event/monthly-luncheon-2/2024-09-15/
LOCATION:In the worship hall
END:VEVENT
BEGIN:VEVENT
DTSTART;TZID=America/Detroit:20240818T123000
DTEND;TZID=America/Detroit:20240818T133000
DTSTAMP:20260421T044853
CREATED:20220306T194953Z
LAST-MODIFIED:20220306T194953Z
UID:10000595-1723984200-1723987800@jaffreyopc.org
SUMMARY:Monthly Luncheon
DESCRIPTION:Join us after the worship service for a pot-luck luncheon and fellowship.\nFeel free to bring a meal to share – but do come!
URL:https://jaffreyopc.org/event/monthly-luncheon-2/2024-08-18/
LOCATION:In the worship hall
END:VEVENT
BEGIN:VEVENT
DTSTART;TZID=America/Detroit:20240721T123000
DTEND;TZID=America/Detroit:20240721T133000
DTSTAMP:20260421T044853
CREATED:20220306T194953Z
LAST-MODIFIED:20220306T194953Z
UID:10000594-1721565000-1721568600@jaffreyopc.org
SUMMARY:Monthly Luncheon
DESCRIPTION:Join us after the worship service for a pot-luck luncheon and fellowship.\nFeel free to bring a meal to share – but do come!
URL:https://jaffreyopc.org/event/monthly-luncheon-2/2024-07-21/
LOCATION:In the worship hall
END:VEVENT
BEGIN:VEVENT
DTSTART;TZID=America/Detroit:20240616T123000
DTEND;TZID=America/Detroit:20240616T133000
DTSTAMP:20260421T044853
CREATED:20220306T194953Z
LAST-MODIFIED:20220306T194953Z
UID:10000593-1718541000-1718544600@jaffreyopc.org
SUMMARY:Monthly Luncheon
DESCRIPTION:Join us after the worship service for a pot-luck luncheon and fellowship.\nFeel free to bring a meal to share – but do come!
URL:https://jaffreyopc.org/event/monthly-luncheon-2/2024-06-16/
LOCATION:In the worship hall
END:VEVENT
BEGIN:VEVENT
DTSTART;TZID=America/Detroit:20240519T123000
DTEND;TZID=America/Detroit:20240519T133000
DTSTAMP:20260421T044853
CREATED:20220306T194953Z
LAST-MODIFIED:20220306T194953Z
UID:10000592-1716121800-1716125400@jaffreyopc.org
SUMMARY:Monthly Luncheon
DESCRIPTION:Join us after the worship service for a pot-luck luncheon and fellowship.\nFeel free to bring a meal to share – but do come!
URL:https://jaffreyopc.org/event/monthly-luncheon-2/2024-05-19/
LOCATION:In the worship hall
END:VEVENT
BEGIN:VEVENT
DTSTART;TZID=America/Detroit:20240421T123000
DTEND;TZID=America/Detroit:20240421T133000
DTSTAMP:20260421T044853
CREATED:20220306T194953Z
LAST-MODIFIED:20220306T194953Z
UID:10000591-1713702600-1713706200@jaffreyopc.org
SUMMARY:Monthly Luncheon
DESCRIPTION:Join us after the worship service for a pot-luck luncheon and fellowship.\nFeel free to bring a meal to share – but do come!
URL:https://jaffreyopc.org/event/monthly-luncheon-2/2024-04-21/
LOCATION:In the worship hall
END:VEVENT
BEGIN:VEVENT
DTSTART;TZID=America/Detroit:20240317T123000
DTEND;TZID=America/Detroit:20240317T133000
DTSTAMP:20260421T044853
CREATED:20220306T194953Z
LAST-MODIFIED:20220306T194953Z
UID:10000590-1710678600-1710682200@jaffreyopc.org
SUMMARY:Monthly Luncheon
DESCRIPTION:Join us after the worship service for a pot-luck luncheon and fellowship.\nFeel free to bring a meal to share – but do come!
URL:https://jaffreyopc.org/event/monthly-luncheon-2/2024-03-17/
LOCATION:In the worship hall
END:VEVENT
BEGIN:VEVENT
DTSTART;TZID=America/Detroit:20240218T123000
DTEND;TZID=America/Detroit:20240218T133000
DTSTAMP:20260421T044853
CREATED:20220306T194953Z
LAST-MODIFIED:20220306T194953Z
UID:10000589-1708259400-1708263000@jaffreyopc.org
SUMMARY:Monthly Luncheon
DESCRIPTION:Join us after the worship service for a pot-luck luncheon and fellowship.\nFeel free to bring a meal to share – but do come!
URL:https://jaffreyopc.org/event/monthly-luncheon-2/2024-02-18/
LOCATION:In the worship hall
END:VEVENT
BEGIN:VEVENT
DTSTART;TZID=America/Detroit:20240121T123000
DTEND;TZID=America/Detroit:20240121T133000
DTSTAMP:20260421T044853
CREATED:20220306T194953Z
LAST-MODIFIED:20220306T194953Z
UID:10000588-1705840200-1705843800@jaffreyopc.org
SUMMARY:Monthly Luncheon
DESCRIPTION:Join us after the worship service for a pot-luck luncheon and fellowship.\nFeel free to bring a meal to share – but do come!
URL:https://jaffreyopc.org/event/monthly-luncheon-2/2024-01-21/
LOCATION:In the worship hall
END:VEVENT
BEGIN:VEVENT
DTSTART;TZID=America/Detroit:20231217T123000
DTEND;TZID=America/Detroit:20231217T133000
DTSTAMP:20260421T044853
CREATED:20220306T194953Z
LAST-MODIFIED:20220306T194953Z
UID:10000587-1702816200-1702819800@jaffreyopc.org
SUMMARY:Monthly Luncheon
DESCRIPTION:Join us after the worship service for a pot-luck luncheon and fellowship.\nFeel free to bring a meal to share – but do come!
URL:https://jaffreyopc.org/event/monthly-luncheon-2/2023-12-17/
LOCATION:In the worship hall
END:VEVENT
BEGIN:VEVENT
DTSTART;TZID=America/Detroit:20231119T123000
DTEND;TZID=America/Detroit:20231119T133000
DTSTAMP:20260421T044853
CREATED:20220306T194953Z
LAST-MODIFIED:20220306T194953Z
UID:10000586-1700397000-1700400600@jaffreyopc.org
SUMMARY:Monthly Luncheon
DESCRIPTION:Join us after the worship service for a pot-luck luncheon and fellowship.\nFeel free to bring a meal to share – but do come!
URL:https://jaffreyopc.org/event/monthly-luncheon-2/2023-11-19/
LOCATION:In the worship hall
END:VEVENT
END:VCALENDAR